BEGIN:VCALENDAR
VERSION:2.0
PRODID:-//Cien Fuegos - ECPv5.0.0.2//NONSGML v1.0//EN
CALSCALE:GREGORIAN
METHOD:PUBLISH
X-WR-CALNAME:Cien Fuegos
X-ORIGINAL-URL:https://cienfuegos.fr
X-WR-CALDESC:Eventos para Cien Fuegos
BEGIN:VTIMEZONE
TZID:Europe/Paris
BEGIN:DAYLIGHT
TZOFFSETFROM:+0100
TZOFFSETTO:+0200
TZNAME:CEST
DTSTART:20250330T010000
END:DAYLIGHT
BEGIN:STANDARD
TZOFFSETFROM:+0200
TZOFFSETTO:+0100
TZNAME:CET
DTSTART:20251026T010000
END:STANDARD
END:VTIMEZONE
BEGIN:VEVENT
DTSTART;TZID=Europe/Paris:20251204T190000
DTEND;TZID=Europe/Paris:20251204T210000
DTSTAMP:20260419T195837
CREATED:20251013T204352Z
LAST-MODIFIED:20251114T081953Z
UID:300524-1764874800-1764882000@cienfuegos.fr
SUMMARY:Presentación de Estación del universo\, de Mario Santiago
DESCRIPTION:Presentación del libro: Estación del unvierso\, de Mario Santiago Papasquiaro\, editado por Ediciones Sin Fin. Con la presencia de Nicolás Slachevsky\, Samuel Monsalve y Piel Divina \n
URL:https://cienfuegos.fr/index.php/event/presentacion-de-estacion-del-universo-de-mario-santiago/
END:VEVENT
END:VCALENDAR