BEGIN:VCALENDAR
VERSION:2.0
PRODID:-//Cien Fuegos - ECPv5.0.0.2//NONSGML v1.0//EN
CALSCALE:GREGORIAN
METHOD:PUBLISH
X-WR-CALNAME:Cien Fuegos
X-ORIGINAL-URL:https://cienfuegos.fr
X-WR-CALDESC:Eventos para Cien Fuegos
BEGIN:VTIMEZONE
TZID:Europe/Paris
BEGIN:DAYLIGHT
TZOFFSETFROM:+0100
TZOFFSETTO:+0200
TZNAME:CEST
DTSTART:20260329T010000
END:DAYLIGHT
BEGIN:STANDARD
TZOFFSETFROM:+0200
TZOFFSETTO:+0100
TZNAME:CET
DTSTART:20261025T010000
END:STANDARD
END:VTIMEZONE
BEGIN:VEVENT
DTSTART;TZID=Europe/Paris:20260528T190000
DTEND;TZID=Europe/Paris:20260528T203000
DTSTAMP:20260419T180316
CREATED:20260413T102047Z
LAST-MODIFIED:20260413T102116Z
UID:332968-1779994800-1780000200@cienfuegos.fr
SUMMARY:Presentación de "El inglés"\, de Martín Bentancor
DESCRIPTION:Presentación de la novela «El inglés»\, de Martín Bentancor \n
URL:https://cienfuegos.fr/index.php/event/presentacion-de-el-ingles-de-martin-bentancor/
END:VEVENT
END:VCALENDAR