BEGIN:VCALENDAR
VERSION:2.0
PRODID:-//Cien Fuegos - ECPv5.0.0.2//NONSGML v1.0//EN
CALSCALE:GREGORIAN
METHOD:PUBLISH
X-WR-CALNAME:Cien Fuegos
X-ORIGINAL-URL:https://cienfuegos.fr
X-WR-CALDESC:Eventos para Cien Fuegos
BEGIN:VTIMEZONE
TZID:Europe/Paris
BEGIN:DAYLIGHT
TZOFFSETFROM:+0100
TZOFFSETTO:+0200
TZNAME:CEST
DTSTART:20260329T010000
END:DAYLIGHT
BEGIN:STANDARD
TZOFFSETFROM:+0200
TZOFFSETTO:+0100
TZNAME:CET
DTSTART:20261025T010000
END:STANDARD
END:VTIMEZONE
BEGIN:VEVENT
DTSTART;TZID=Europe/Paris:20260530T183000
DTEND;TZID=Europe/Paris:20260530T203000
DTSTAMP:20260419T180413
CREATED:20260410T064715Z
LAST-MODIFIED:20260410T064715Z
UID:332428-1780165800-1780173000@cienfuegos.fr
SUMMARY:Presentación de dos antologías de poesía
DESCRIPTION:
URL:https://cienfuegos.fr/index.php/event/presentacion-de-dos-antologias-de-poesia/
END:VEVENT
END:VCALENDAR