BEGIN:VCALENDAR
VERSION:2.0
PRODID:-//Cien Fuegos - ECPv5.0.0.2//NONSGML v1.0//EN
CALSCALE:GREGORIAN
METHOD:PUBLISH
X-WR-CALNAME:Cien Fuegos
X-ORIGINAL-URL:https://cienfuegos.fr
X-WR-CALDESC:Eventos para Cien Fuegos
BEGIN:VTIMEZONE
TZID:Europe/Paris
BEGIN:DAYLIGHT
TZOFFSETFROM:+0100
TZOFFSETTO:+0200
TZNAME:CEST
DTSTART:20260329T010000
END:DAYLIGHT
BEGIN:STANDARD
TZOFFSETFROM:+0200
TZOFFSETTO:+0100
TZNAME:CET
DTSTART:20261025T010000
END:STANDARD
END:VTIMEZONE
BEGIN:VEVENT
DTSTART;TZID=Europe/Paris:20260506T190000
DTEND;TZID=Europe/Paris:20260506T203000
DTSTAMP:20260419T163745
CREATED:20260413T101309Z
LAST-MODIFIED:20260417T162025Z
UID:332965-1778094000-1778099400@cienfuegos.fr
SUMMARY:"La guitarra"\, de Valeria Melchiorre
DESCRIPTION:Presentación de la novela «La guitarra»\, de Valeria Melchiorre\, editara por Mansalva. \n
URL:https://cienfuegos.fr/index.php/event/la-guitarra-de-valeria-melchiorre/
END:VEVENT
END:VCALENDAR