BEGIN:VCALENDAR
VERSION:2.0
PRODID:-//Cien Fuegos - ECPv5.0.0.2//NONSGML v1.0//EN
CALSCALE:GREGORIAN
METHOD:PUBLISH
X-WR-CALNAME:Cien Fuegos
X-ORIGINAL-URL:https://cienfuegos.fr
X-WR-CALDESC:Eventos para Cien Fuegos
BEGIN:VTIMEZONE
TZID:Europe/Paris
BEGIN:DAYLIGHT
TZOFFSETFROM:+0100
TZOFFSETTO:+0200
TZNAME:CEST
DTSTART:20250330T010000
END:DAYLIGHT
BEGIN:STANDARD
TZOFFSETFROM:+0200
TZOFFSETTO:+0100
TZNAME:CET
DTSTART:20251026T010000
END:STANDARD
END:VTIMEZONE
BEGIN:VEVENT
DTSTART;TZID=Europe/Paris:20251026T150000
DTEND;TZID=Europe/Paris:20251026T190000
DTSTAMP:20260420T025152
CREATED:20251021T205555Z
LAST-MODIFIED:20251021T205555Z
UID:301952-1761490800-1761505200@cienfuegos.fr
SUMMARY:Feria de libros!
DESCRIPTION:
URL:https://cienfuegos.fr/index.php/event/feria-de-libros/
END:VEVENT
END:VCALENDAR