BEGIN:VCALENDAR
VERSION:2.0
PRODID:-//Cien Fuegos - ECPv5.0.0.2//NONSGML v1.0//EN
CALSCALE:GREGORIAN
METHOD:PUBLISH
X-WR-CALNAME:Cien Fuegos
X-ORIGINAL-URL:https://cienfuegos.fr
X-WR-CALDESC:Eventos para Cien Fuegos
BEGIN:VTIMEZONE
TZID:Europe/Paris
BEGIN:DAYLIGHT
TZOFFSETFROM:+0100
TZOFFSETTO:+0200
TZNAME:CEST
DTSTART:20200329T010000
END:DAYLIGHT
BEGIN:STANDARD
TZOFFSETFROM:+0200
TZOFFSETTO:+0100
TZNAME:CET
DTSTART:20201025T010000
END:STANDARD
END:VTIMEZONE
BEGIN:VEVENT
DTSTART;TZID=Europe/Paris:20200206T080000
DTEND;TZID=Europe/Paris:20200206T170000
DTSTAMP:20260420T060234
CREATED:20200206T164121Z
LAST-MODIFIED:20200206T164121Z
UID:153-1580976000-1581008400@cienfuegos.fr
SUMMARY:Entregar Sitio
DESCRIPTION:hoy \n
URL:https://cienfuegos.fr/index.php/event/entregar-sitio/
END:VEVENT
END:VCALENDAR