BEGIN:VCALENDAR
VERSION:2.0
PRODID:-//Cien Fuegos - ECPv5.0.0.2//NONSGML v1.0//EN
CALSCALE:GREGORIAN
METHOD:PUBLISH
X-WR-CALNAME:Cien Fuegos
X-ORIGINAL-URL:https://cienfuegos.fr
X-WR-CALDESC:Eventos para Cien Fuegos
BEGIN:VTIMEZONE
TZID:Europe/Paris
BEGIN:DAYLIGHT
TZOFFSETFROM:+0100
TZOFFSETTO:+0200
TZNAME:CEST
DTSTART:20250330T010000
END:DAYLIGHT
BEGIN:STANDARD
TZOFFSETFROM:+0200
TZOFFSETTO:+0100
TZNAME:CET
DTSTART:20251026T010000
END:STANDARD
END:VTIMEZONE
BEGIN:VEVENT
DTSTART;TZID=Europe/Paris:20251003T190000
DTEND;TZID=Europe/Paris:20251003T200000
DTSTAMP:20260420T025247
CREATED:20251001T134609Z
LAST-MODIFIED:20251001T134609Z
UID:298293-1759518000-1759521600@cienfuegos.fr
SUMMARY:Club del libro
DESCRIPTION:Club del libro: sesión de octubre \n  \n
URL:https://cienfuegos.fr/index.php/event/club-del-libro/
END:VEVENT
END:VCALENDAR